BEGIN:VCALENDAR
VERSION:2.0
PRODID:-//wp-events-plugin.com//6.6.3//EN
TZID:America/Chicago
X-WR-TIMEZONE:America/Chicago
BEGIN:VEVENT
UID:32@studio659.org
DTSTART;TZID=America/Chicago:20220630T160000
DTEND;TZID=America/Chicago:20220630T190000
DTSTAMP:20220614T201220Z
URL:https://studio659.org/events/yes-i-am-art-show-closing
SUMMARY:Yes\, I Am art show Closing
DESCRIPTION:Closing Date: 6/30/22\n\n&nbsp\;\n\n6/4-6/30/22
END:VEVENT
BEGIN:VTIMEZONE
TZID:America/Chicago
X-LIC-LOCATION:America/Chicago
BEGIN:DAYLIGHT
DTSTART:20220313T030000
TZOFFSETFROM:-0600
TZOFFSETTO:-0500
TZNAME:CDT
END:DAYLIGHT
END:VTIMEZONE
END:VCALENDAR