BEGIN:VCALENDAR
VERSION:2.0
PRODID:-//wp-events-plugin.com//6.6.3//EN
TZID:America/Chicago
X-WR-TIMEZONE:America/Chicago
BEGIN:VEVENT
UID:742@studio659.org
DTSTART;TZID=America/Chicago:20250620T000000
DTEND;TZID=America/Chicago:20250731T000000
DTSTAMP:20250305T202936Z
URL:https://studio659.org/events/tony-gonzales-solo-exhibit
SUMMARY:Tony Gonzales Solo Exhibit
DESCRIPTION:Featuring artist: Tony Gonzales\n\nOpening reception: June\, 20
 \, 2025\, 7-9 pm
CATEGORIES:Exhibit
LOCATION:Studio 659\, 1413 119th Street\, Whiting\, Indiana\, 46394\, Unite
 d States
X-APPLE-STRUCTURED-LOCATION;VALUE=URI;X-ADDRESS=1413 119th Street\, Whiting
 \, Indiana\, 46394\, United States;X-APPLE-RADIUS=100;X-TITLE=Studio 659:g
 eo:0,0
END:VEVENT
BEGIN:VTIMEZONE
TZID:America/Chicago
X-LIC-LOCATION:America/Chicago
BEGIN:DAYLIGHT
DTSTART:20250309T030000
TZOFFSETFROM:-0600
TZOFFSETTO:-0500
TZNAME:CDT
END:DAYLIGHT
END:VTIMEZONE
END:VCALENDAR