BEGIN:VCALENDAR
VERSION:2.0
PRODID:-//wp-events-plugin.com//6.6.3//EN
TZID:America/Chicago
X-WR-TIMEZONE:America/Chicago
BEGIN:VEVENT
UID:741@studio659.org
DTSTART;TZID=America/Chicago:20250502T000000
DTEND;TZID=America/Chicago:20250607T000000
DTSTAMP:20250305T202801Z
URL:https://studio659.org/events/shadesofshe-the-journey-continues-exhibit
SUMMARY:#shadesofshe The Journey Continues\, Exhibit
DESCRIPTION:Featuring artist: Carol Estes\n\nOpening Reception\, May 2\, 20
 25\, 7-9pm
CATEGORIES:Art Reception,Donations welcome,Exhibit,Family
 Friendly,Free,Fundraising,Sale
END:VEVENT
BEGIN:VTIMEZONE
TZID:America/Chicago
X-LIC-LOCATION:America/Chicago
BEGIN:DAYLIGHT
DTSTART:20250309T030000
TZOFFSETFROM:-0600
TZOFFSETTO:-0500
TZNAME:CDT
END:DAYLIGHT
END:VTIMEZONE
END:VCALENDAR