BEGIN:VCALENDAR
VERSION:2.0
PRODID:-//wp-events-plugin.com//6.6.3//EN
TZID:America/Chicago
X-WR-TIMEZONE:America/Chicago
BEGIN:VEVENT
UID:56@studio659.org
DTSTART;TZID=America/Chicago:20221007T190000
DTEND;TZID=America/Chicago:20221007T210000
DTSTAMP:20220824T165608Z
URL:https://studio659.org/events/mi-familia-dia-de-los-muertos-exhibit-ope
 ning-reception
SUMMARY:Mi Familia (Dia De Los Muertos) Exhibit Opening Reception
DESCRIPTION:
END:VEVENT
BEGIN:VTIMEZONE
TZID:America/Chicago
X-LIC-LOCATION:America/Chicago
BEGIN:DAYLIGHT
DTSTART:20220313T030000
TZOFFSETFROM:-0600
TZOFFSETTO:-0500
TZNAME:CDT
END:DAYLIGHT
END:VTIMEZONE
END:VCALENDAR