BEGIN:VCALENDAR
VERSION:2.0
PRODID:-//wp-events-plugin.com//6.6.3//EN
TZID:America/Chicago
X-WR-TIMEZONE:America/Chicago
BEGIN:VEVENT
UID:77@studio659.org
DTSTART;TZID=America/Chicago:20230203T190000
DTEND;TZID=America/Chicago:20230203T210000
DTSTAMP:20221216T201031Z
URL:https://studio659.org/events/love-and-chocolate-art-show-opening-recep
 tion
SUMMARY:Love and Chocolate Art Show Opening Reception
DESCRIPTION:
CATEGORIES:Art Reception,Donations welcome,Free
LOCATION:Studio 659\, 1413 119th Street\, Whiting\, Indiana\, 46394\, Unite
 d States
X-APPLE-STRUCTURED-LOCATION;VALUE=URI;X-ADDRESS=1413 119th Street\, Whiting
 \, Indiana\, 46394\, United States;X-APPLE-RADIUS=100;X-TITLE=Studio 659:g
 eo:0,0
END:VEVENT
BEGIN:VTIMEZONE
TZID:America/Chicago
X-LIC-LOCATION:America/Chicago
BEGIN:STANDARD
DTSTART:20221106T010000
TZOFFSETFROM:-0500
TZOFFSETTO:-0600
TZNAME:CST
END:STANDARD
END:VTIMEZONE
END:VCALENDAR